BEGIN:VCALENDAR
VERSION:2.0
PRODID:-//Eventin//Event Calendar//EN
CALSCALE:GREGORIAN
METHOD:PUBLISH
BEGIN:VEVENT
UID:dde8c0b0d20ec3cd8dd7ad50afc6e91a@coffeeis.me
SUMMARY:Coffee Shop Accelerator: 4-Week Interactive Webinar Program for Fut
 ure Cafè Owners
DESCRIPTION:Transform your coffee shop dream into reality with this compreh
 ensive 4-week online program designed for serious entrepreneurs ready to ta
 ke action.\n\nLearn from Someone Who's Actually Done It All.\nYour instruct
 or\, Sameer Shah (Co-Founder of Voyager Craft Coffee)\, didn’t just read 
 about the coffee business\, he lived it. Starting with nothing but a coffee
  cart and a vision\, Sameer built an 8-figure coffee operation. He’s navi
 gated every challenge you’ll face: from serving customers out of a mobile
  cart to scaling multiple locations\, including purchasing and completely r
 ebranding an existing mom-and-pop shop and a Starbucks into thriving Voyage
 r Craft Coffee locations. This isn’t theory\, it’s battle tested wisdom
  from someone who’s been exactly where you are now.\nLISTEN TO - HOW TO S
 TART A COFFEE SHOP - PODCAST WITH SAMEER SHAH\nProgram Structure\n\n4 conse
 cutive Mondays: 3 x 3-hour after work (PST) live Zoom sessions where Sameer
  shares real stories\, actual numbers\, and hard-won insights and one on si
 te review in one of the South SF Bay Area coffee shops (optional).\n\n\nWee
 kly Action Plans: Targeted homework that mirrors the exact steps Sameer too
 k to build his empire\n\n\nLive Field Experience: Final session includes ex
 clusive behind-the-scenes tour of one of Sameer's actual coffee shops—see
  the concepts you've learned working in real time\n\n\nOngoing Support: Pri
 vate WhatsApp group with fellow entrepreneurs and continued access to Samee
 r's guidance\n\nTakeways\n Transform your concept from idea to grand openi
 ng through Sameer's proven 3-phase system: Idea → Plan → Execute \nWee
 k-by-Week Transformation\n\nYour Vision\, Refined: Stop second-guessing you
 rself. Learn how Sameer identified his winning concept and how to sharpen y
 ours for maximum impact\n\n \n\nNumbers That Actually Work: Get the real f
 inancial framework Sameer used to go from cart to 7-figures. No fluff\, jus
 t the projections\, cost controls\, and strategies that actually work\n\n 
 \n\nLocation Secrets & Team Building: Discover Sameer's location-scouting m
 ethods and how he builds teams that embody his brand values (not just show 
 up for paychecks)\n\n \n\nLaunch Like a Pro: Navigate the maze of regulati
 ons\, craft menus that sell\, and establish a brand that customers remember
 \, all using Sameer's proven playbook\n\nReal Stories\, Real Results: Ever
 y lesson includes Sameer's actual experiences: the late nights\, the breakt
 hrough moments\, the costly mistakes you can avoid\, and the decisions that
  changed everything. You'll work through the same scenarios he faced\, usin
 g real numbers from his operations. \nYour Competitive Edge: Walk away wit
 h more than just a business plan—gain the mindset and insider knowledge o
 f someone who's built what you're dreaming of. You'll have Sameer's complet
 e operational framework\, his vendor relationships insights\, his team-buil
 ding philosophy\, and access to a community of entrepreneurs who've learned
  from his journey.\nThis isn't just another course\, it's your direct line 
 to someone who turned a coffee cart dream into a coffee empire. Your transf
 ormation starts here.\nDo you have a question?\nContact FormFirst NameLast 
 NameEmailWebsiteYour MessageSEND
LOCATION:Online
DTSTAMP:20260422T142410Z
DTSTART:20260616T010000Z
DTEND:20260707T040000Z
END:VEVENT
END:VCALENDAR
