BEGIN:VCALENDAR
VERSION:2.0
PRODID:-//Eventin//Event Calendar//EN
CALSCALE:GREGORIAN
METHOD:PUBLISH
BEGIN:VEVENT
UID:e460b1e065a790f768999d45d2a5ed1c@coffeeis.me
SUMMARY:SCA Roasting Coffee Module Foundations
DESCRIPTION:Every roaster started somewhere. This is that somewhere.\nRoast
 ing Foundations is a 4-hour online course for beginners and hobbyists who w
 ant to understand what roasting actually involves before committing time\, 
 money\, or equipment to it. You'll cover the full roast cycle\, learn how h
 eat transforms green coffee\, and start connecting roasting decisions to wh
 at ends up in the cup. Light roast or dark\, fast or slow\, you'll understa
 nd the why behind the choices.\nThe course runs in two parts. The first you
  complete on your own schedule through our online platform. The second is a
  live session over Google Meet\, where we go deeper into the material and y
 ou can ask anything.\nBy the end\, you'll know whether roasting is the dire
 ction you want to go\, and if it is\, you'll have a real foundation to buil
 d on.\nThe course includes the SCA Foundations Roasting exam. Pass it\, ear
 n an internationally recognized certificate and credits toward one of the S
 CA Coffee Skills Diplomas.\nPRICE ALREADY INCLUDES SCA FEES\nUSA:\n\n\nEast
 ern (NY\, FL): 12pm–4pm (+3h)\n\n\nCentral (TX\, IL): 11am–3pm (+2h)\n\
 n\nMountain (CO\, UT): 10am–2pm (+1h)\n\n\nPacific (CA\, WA): 9am–1pm (
 same)\n\n\nHawaii: 7am–11am (-2h)\n\n\nEurope:\n\n\nUK (London): 5pm–9p
 m (+8h)\n\n\nCET/CEST (FR\, DE\, Italy\, CZR\, SVK\, HU: 6pm–10pm (+9h)\n
 \n\nEET/EEST (GR): 7pm–11pm (+10h)\n\n\nAsia:\n\n\nIndia (Mumbai): 10:30p
 m–2:30am (+13.5h)\n\n\nChina (Beijing): 12am–4am (+15h)\n\n\nSingapore/
 Tokyo: 12am–4am / 1am–5am (+15h/+16h)
LOCATION:Online
DTSTAMP:20260422T141802Z
DTSTART:20260623T160000Z
DTEND:20260623T200000Z
END:VEVENT
END:VCALENDAR
